BEGIN:VCALENDAR
VERSION:2.0
PRODID:iheid
X-WR-TIMEZONE:Europe/Zurich
BEGIN:VTIMEZONE
TZID:Europe/Zurich
X-LIC-LOCATION:Europe/Zurich
END:VTIMEZONE
BEGIN:VEVENT
UID:69eaaa86ce1b5
DTSTART:20260126T110000Z
SEQUENCE:0
TRANSP:OPAQUE
DTEND:20260126T130000Z
LOCATION:CCIG\, Boulevard du Théâtre 4\, 1204 Genève
SUMMARY:The Economic Consequences of the Second Trump Administration
CLASS:PUBLIC
DESCRIPTION:The Economic Consequences of the Second Trump Administration by
  Organised by the Geneva Graduate Institute in collaboration with the CCIG
 .\n\n\n\nEvent connection: 
DTSTAMP:20260424T012558Z
END:VEVENT
END:VCALENDAR