BEGIN:VCALENDAR
VERSION:2.0
PRODID:iheid
X-WR-TIMEZONE:Europe/Zurich
BEGIN:VTIMEZONE
TZID:Europe/Zurich
X-LIC-LOCATION:Europe/Zurich
END:VTIMEZONE
BEGIN:VEVENT
UID:69eaac99cfcde
DTSTART:20260122T133000Z
SEQUENCE:0
TRANSP:OPAQUE
DTEND:20260122T143000Z
LOCATION:Room S5 (petal 1. ground floor) Maison de la paix\, Chemin Eugène
  Rigot 2a\, 1202 Geneva
SUMMARY:World Bank Global Economic Prospects Report - January 2026 edition
CLASS:PUBLIC
DESCRIPTION:World Bank Global Economic Prospects Report - January 2026 edit
 ion by  With Ayan Kose\, Deputy Chief Economist &amp\; Director of the Pro
 spects Group\, World Bank Group.\n\n\n\nEvent connection: 
DTSTAMP:20260424T013449Z
END:VEVENT
END:VCALENDAR