BEGIN:VCALENDAR
VERSION:2.0
PRODID:iheid
X-WR-TIMEZONE:Europe/Zurich
BEGIN:VTIMEZONE
TZID:Europe/Zurich
X-LIC-LOCATION:Europe/Zurich
END:VTIMEZONE
BEGIN:VEVENT
UID:69eaa606ee6f5
DTSTART:20260211T113000Z
SEQUENCE:0
TRANSP:OPAQUE
DTEND:20260211T124500Z
LOCATION:Auditorium Ivan Pictet\, Maison de la paix and online
SUMMARY:Trump and Latin America\, the End of Multilateralism?
CLASS:PUBLIC
DESCRIPTION:Trump and Latin America\, the End of Multilateralism? by The In
 stitute.\n\n\n\nEvent connection: 
DTSTAMP:20260424T010646Z
END:VEVENT
END:VCALENDAR