BEGIN:VCALENDAR
VERSION:2.0
PRODID:iheid
X-WR-TIMEZONE:Europe/Zurich
BEGIN:VTIMEZONE
TZID:Europe/Zurich
X-LIC-LOCATION:Europe/Zurich
END:VTIMEZONE
BEGIN:VEVENT
UID:69e7ee0eee3a4
DTSTART:20260427T121500Z
SEQUENCE:0
TRANSP:OPAQUE
DTEND:20260427T140000Z
URL:https://workshops-cvcl-9.youcanbook.me/?jumpDate=2026-04-27
LOCATION:Maison de la paix\, S2
SUMMARY:How to succeed at your interview
CLASS:PUBLIC
DESCRIPTION:How to succeed at your interview by Career Adviser.\n\n\n\nEven
 t connection: https://workshops-cvcl-9.youcanbook.me/?jumpDate=2026-04-27
DTSTAMP:20260421T233718Z
END:VEVENT
END:VCALENDAR