BEGIN:VCALENDAR
VERSION:2.0
PRODID:iheid
X-WR-TIMEZONE:Europe/Zurich
BEGIN:VTIMEZONE
TZID:Europe/Zurich
X-LIC-LOCATION:Europe/Zurich
END:VTIMEZONE
BEGIN:VEVENT
UID:69e807f66bc5d
DTSTART:20260428T101500Z
SEQUENCE:0
TRANSP:OPAQUE
DTEND:20260428T120000Z
URL:https://workshops-cvcl-5.youcanbook.me/?jumpDate=2026-04-28
LOCATION:Maison de la paix\, S5
SUMMARY:Networking for people who hate networking
CLASS:PUBLIC
DESCRIPTION:Networking for people who hate networking by Career Adviser.\n\
 n\n\nEvent connection: https://workshops-cvcl-5.youcanbook.me/?jumpDate=20
 26-04-28
DTSTAMP:20260422T012750Z
END:VEVENT
END:VCALENDAR