BEGIN:VCALENDAR
VERSION:2.0
PRODID:iheid
X-WR-TIMEZONE:Europe/Zurich
BEGIN:VTIMEZONE
TZID:Europe/Zurich
X-LIC-LOCATION:Europe/Zurich
END:VTIMEZONE
BEGIN:VEVENT
UID:69e807f73cd14
DTSTART:20260505T101500Z
SEQUENCE:0
TRANSP:OPAQUE
DTEND:20260505T120000Z
URL:https://workshops-cvcl-6.youcanbook.me/?jumpDate=2026-05-05
LOCATION:Maison de la paix\, S2
SUMMARY:Feeling lost? Learn about yourself through career planning
CLASS:PUBLIC
DESCRIPTION:Feeling lost? Learn about yourself through career planning by C
 areer Adviser.\n\n\n\nEvent connection: https://workshops-cvcl-6.youcanboo
 k.me/?jumpDate=2026-05-05
DTSTAMP:20260422T012751Z
END:VEVENT
END:VCALENDAR