BEGIN:VCALENDAR
VERSION:2.0
PRODID:iheid
X-WR-TIMEZONE:Europe/Zurich
BEGIN:VTIMEZONE
TZID:Europe/Zurich
X-LIC-LOCATION:Europe/Zurich
END:VTIMEZONE
BEGIN:VEVENT
UID:69e8265b2448a
DTSTART:20260508T121500Z
SEQUENCE:0
TRANSP:OPAQUE
DTEND:20260508T140000Z
URL:https://workshops-cvcl.youcanbook.me/?jumpDate=2026-05-08
LOCATION:Maison de la paix\, S11
SUMMARY:CV & cover letter: how to tailor them for International Geneva?
CLASS:PUBLIC
DESCRIPTION:CV &amp\; cover letter: how to tailor them for International Ge
 neva? by Career Adviser.\n\n\n\nEvent connection: https://workshops-cvcl.y
 oucanbook.me/?jumpDate=2026-05-08
DTSTAMP:20260422T033731Z
END:VEVENT
END:VCALENDAR