BEGIN:VCALENDAR
VERSION:2.0
PRODID:iheid
X-WR-TIMEZONE:Europe/Zurich
BEGIN:VTIMEZONE
TZID:Europe/Zurich
X-LIC-LOCATION:Europe/Zurich
END:VTIMEZONE
BEGIN:VEVENT
UID:69e83eefcabd1
DTSTART:20260521T101500Z
SEQUENCE:0
TRANSP:OPAQUE
DTEND:20260521T120000Z
URL:https://workshops-cvcl-9-2.youcanbook.me/?jumpDate=2026-05-21
LOCATION:Maison de la paix\, S2
SUMMARY:After the job offer... Now what?
CLASS:PUBLIC
DESCRIPTION:After the job offer... Now what? by Career Adviser.\n\n\n\nEven
 t connection: https://workshops-cvcl-9-2.youcanbook.me/?jumpDate=2026-05-2
 1
DTSTAMP:20260422T052223Z
END:VEVENT
END:VCALENDAR