BEGIN:VCALENDAR
VERSION:2.0
PRODID:iheid
X-WR-TIMEZONE:Europe/Zurich
BEGIN:VTIMEZONE
TZID:Europe/Zurich
X-LIC-LOCATION:Europe/Zurich
END:VTIMEZONE
BEGIN:VEVENT
UID:69ea37b3493ff
DTSTART:20260317T113000Z
SEQUENCE:0
TRANSP:OPAQUE
DTEND:20260317T123000Z
URL:https://docs.google.com/forms/d/e/1FAIpQLSezf-w3mpwbLrc5-tleS1JDG4tU3mw
 mQOmIJVkAfpkFbcm7gw/viewform?usp=header
LOCATION:Room S11\, Maison de la paix\, and online
SUMMARY:Why Populism ‘Wins’? The Limits of Mini-Publics in Addressing P
 ower and Legitimacy
CLASS:PUBLIC
DESCRIPTION:Why Populism ‘Wins’? The Limits of Mini-Publics in Addressi
 ng Power and Legitimacy by Yanina Welp\, Research Fellow\, Albert Hirschma
 n Centre on Democracy.\n\n\n\nEvent connection: https://docs.google.com/fo
 rms/d/e/1FAIpQLSezf-w3mpwbLrc5-tleS1JDG4tU3mwmQOmIJVkAfpkFbcm7gw/viewform?
 usp=header
DTSTAMP:20260423T171603Z
END:VEVENT
END:VCALENDAR