BEGIN:VCALENDAR
VERSION:2.0
PRODID:iheid
X-WR-TIMEZONE:Europe/Zurich
BEGIN:VTIMEZONE
TZID:Europe/Zurich
X-LIC-LOCATION:Europe/Zurich
END:VTIMEZONE
BEGIN:VEVENT
UID:69ea5f5eb004d
DTSTART:20260220T111500Z
SEQUENCE:0
TRANSP:OPAQUE
DTEND:20260220T130000Z
URL:https://docs.google.com/forms/d/e/1FAIpQLSeCaLkMLTvzcqbccbnEAhY81tAVKd4
 GHjD4_0kc0EZSX2_GxA/viewform?usp=preview
LOCATION:Room S8\, Maison de la paix
SUMMARY:Exit from International Organizations: Costly Negotiation for Insti
 tutional Change
CLASS:PUBLIC
DESCRIPTION:Exit from International Organizations: Costly Negotiation for I
 nstitutional Change by Inken von Borzyskowski.\n\n\n\nEvent connection: ht
 tps://docs.google.com/forms/d/e/1FAIpQLSeCaLkMLTvzcqbccbnEAhY81tAVKd4GHjD4
 _0kc0EZSX2_GxA/viewform?usp=preview
DTSTAMP:20260423T200518Z
END:VEVENT
END:VCALENDAR