BEGIN:VCALENDAR
VERSION:2.0
PRODID:iheid
X-WR-TIMEZONE:Europe/Zurich
BEGIN:VTIMEZONE
TZID:Europe/Zurich
X-LIC-LOCATION:Europe/Zurich
END:VTIMEZONE
BEGIN:VEVENT
UID:69ea5c674b9b0
DTSTART:20260217T111500Z
SEQUENCE:0
TRANSP:OPAQUE
DTEND:20260217T121500Z
LOCATION:Auditorium A2\, Geneva Graduate Institute
SUMMARY:Double jeopardy: Legal challenges for the maritime industry on mass
  rescue
CLASS:PUBLIC
DESCRIPTION:Double jeopardy: Legal challenges for the maritime industry on 
 mass rescue by in collaboration with the Master in International and Devel
 opment Studies (MINT).\n\n\n\nEvent connection: 
DTSTAMP:20260423T195239Z
END:VEVENT
END:VCALENDAR