BEGIN:VCALENDAR
VERSION:2.0
PRODID:iheid
X-WR-TIMEZONE:Europe/Zurich
BEGIN:VTIMEZONE
TZID:Europe/Zurich
X-LIC-LOCATION:Europe/Zurich
END:VTIMEZONE
BEGIN:VEVENT
UID:69e9013501ecc
DTSTART:20260317T111500Z
SEQUENCE:0
TRANSP:OPAQUE
DTEND:20260317T130000Z
LOCATION:Geneva Graduate Institute\, Maison de la paix\, room S10
SUMMARY:An Intimate History of Postcolonial England: Sexual and Reproductiv
 e Health in Three  English Cities
CLASS:PUBLIC
DESCRIPTION:An Intimate History of Postcolonial England: Sexual and Reprodu
 ctive Health in Three  English Cities by George J. Severs.\n\n\n\nEvent co
 nnection: 
DTSTAMP:20260422T191117Z
END:VEVENT
END:VCALENDAR