BEGIN:VCALENDAR
VERSION:2.0
PRODID:iheid
X-WR-TIMEZONE:Europe/Zurich
BEGIN:VTIMEZONE
TZID:Europe/Zurich
X-LIC-LOCATION:Europe/Zurich
END:VTIMEZONE
BEGIN:VEVENT
UID:69e5d27f75bda
DTSTART:20260316T130000Z
SEQUENCE:0
TRANSP:OPAQUE
DTEND:20260320T210000Z
LOCATION:Maison de la paix\, Geneva
SUMMARY:Sustainability Week 2026
CLASS:PUBLIC
DESCRIPTION:Sustainability Week 2026 by ENVIRONMENTAL COMMITTEE.\n\n\n\nEve
 nt connection: 
DTSTAMP:20260420T091511Z
END:VEVENT
END:VCALENDAR