BEGIN:VCALENDAR
VERSION:2.0
PRODID:iheid
X-WR-TIMEZONE:Europe/Zurich
BEGIN:VTIMEZONE
TZID:Europe/Zurich
X-LIC-LOCATION:Europe/Zurich
END:VTIMEZONE
BEGIN:VEVENT
UID:69ecb67861047
DTSTART:20260312T163000Z
SEQUENCE:0
TRANSP:OPAQUE
DTEND:20260312T180000Z
URL:https://forms.gle/vpN8dWJMPymNhGrx8
LOCATION:Maison de la Paix\, La Fab\, Petal 2\, Floor 4
SUMMARY:Inspiring Peacemakers Series: From Norm-Setting to Impact
CLASS:PUBLIC
DESCRIPTION:Inspiring Peacemakers Series: From Norm-Setting to Impact by It
 onde Kakoma\, Interpeace | Peacebuilding Initiative.\n\n\n\nEvent connecti
 on: https://forms.gle/vpN8dWJMPymNhGrx8
DTSTAMP:20260425T144128Z
END:VEVENT
END:VCALENDAR