BEGIN:VCALENDAR
VERSION:2.0
PRODID:iheid
X-WR-TIMEZONE:Europe/Zurich
BEGIN:VTIMEZONE
TZID:Europe/Zurich
X-LIC-LOCATION:Europe/Zurich
END:VTIMEZONE
BEGIN:VEVENT
UID:69ec995c40ed5
DTSTART:20260306T091500Z
SEQUENCE:0
TRANSP:OPAQUE
DTEND:20260306T140000Z
URL:https://forms.gle/dLgdPjhKVjS95ipo7
LOCATION:Auditorium A1B\, Maison de la paix
SUMMARY:Feminist Congress \"Rage\, Care & Action\"
CLASS:PUBLIC
DESCRIPTION:Feminist Congress &quot\;Rage\, Care &amp\; Action&quot\; by Fe
 minist Collective.\n\n\n\nEvent connection: https://forms.gle/dLgdPjhKVjS9
 5ipo7
DTSTAMP:20260425T123716Z
END:VEVENT
END:VCALENDAR