BEGIN:VCALENDAR
VERSION:2.0
PRODID:iheid
X-WR-TIMEZONE:Europe/Zurich
BEGIN:VTIMEZONE
TZID:Europe/Zurich
X-LIC-LOCATION:Europe/Zurich
END:VTIMEZONE
BEGIN:VEVENT
UID:69ec94cf3f7e1
DTSTART:20260311T170000Z
SEQUENCE:0
TRANSP:OPAQUE
DTEND:20260312T190000Z
URL:https://forms.gle/GzQhdvfeGb5zTsCH7
LOCATION:Auditorium A2\, Maison de la paix
SUMMARY:LANI ANNUAL CONGRESS 2026
CLASS:PUBLIC
DESCRIPTION:LANI ANNUAL CONGRESS 2026 by Latin American Network Initiative 
 (LANI).\n\n\n\nEvent connection: https://forms.gle/GzQhdvfeGb5zTsCH7
DTSTAMP:20260425T121751Z
END:VEVENT
END:VCALENDAR