BEGIN:VCALENDAR
VERSION:2.0
PRODID:iheid
X-WR-TIMEZONE:Europe/Zurich
BEGIN:VTIMEZONE
TZID:Europe/Zurich
X-LIC-LOCATION:Europe/Zurich
END:VTIMEZONE
BEGIN:VEVENT
UID:69e7a8049cbc0
DTSTART:20260323T171500Z
SEQUENCE:0
TRANSP:OPAQUE
DTEND:20260323T184500Z
LOCATION:Maison de la paix | Room S4
SUMMARY:Using drag in HIV/AIDS activism: cases from Russia and England
CLASS:PUBLIC
DESCRIPTION:Using drag in HIV/AIDS activism: cases from Russia and England 
 by Gender Centre.\n\n\n\nEvent connection: 
DTSTAMP:20260421T183828Z
END:VEVENT
END:VCALENDAR