BEGIN:VCALENDAR
VERSION:2.0
PRODID:iheid
X-WR-TIMEZONE:Europe/Zurich
BEGIN:VTIMEZONE
TZID:Europe/Zurich
X-LIC-LOCATION:Europe/Zurich
END:VTIMEZONE
BEGIN:VEVENT
UID:69e807f488662
DTSTART:20260505T163000Z
SEQUENCE:0
TRANSP:OPAQUE
DTEND:20260505T180000Z
LOCATION:Maison de la paix | Room S5
SUMMARY:Women in science
CLASS:PUBLIC
DESCRIPTION:Women in science by Gender Centre.\n\n\n\nEvent connection: 
DTSTAMP:20260422T012748Z
END:VEVENT
END:VCALENDAR