BEGIN:VCALENDAR
VERSION:2.0
PRODID:iheid
X-WR-TIMEZONE:Europe/Zurich
BEGIN:VTIMEZONE
TZID:Europe/Zurich
X-LIC-LOCATION:Europe/Zurich
END:VTIMEZONE
BEGIN:VEVENT
UID:69e9d060de0da
DTSTART:20260323T171500Z
SEQUENCE:0
TRANSP:OPAQUE
DTEND:20260323T180000Z
LOCATION:S11 and online
SUMMARY:International Refugee Law\, Disasters and Climate Change: Is the IC
 J Advisory Opinion Right?
CLASS:PUBLIC
DESCRIPTION:International Refugee Law\, Disasters and Climate Change: Is th
 e ICJ Advisory Opinion Right? by Global Migration Centre | Professor David
  James Cantor.\n\n\n\nEvent connection: 
DTSTAMP:20260423T095512Z
END:VEVENT
END:VCALENDAR