BEGIN:VCALENDAR
VERSION:2.0
PRODID:iheid
X-WR-TIMEZONE:Europe/Zurich
BEGIN:VTIMEZONE
TZID:Europe/Zurich
X-LIC-LOCATION:Europe/Zurich
END:VTIMEZONE
BEGIN:VEVENT
UID:69ea3517a51c0
DTSTART:20260425T070000Z
SEQUENCE:0
TRANSP:OPAQUE
DTEND:20260426T160000Z
URL:https://www.ai-negotiation-challenge.org/harvardevent
LOCATION:No location specified
SUMMARY:AI Negotiation Challenge – Global Simulation 2026
CLASS:PUBLIC
DESCRIPTION:AI Negotiation Challenge – Global Simulation 2026 by Tech Hub
  &amp\; Executive Education.\n\n\n\nEvent connection: https://www.ai-negot
 iation-challenge.org/harvardevent
DTSTAMP:20260423T170455Z
END:VEVENT
END:VCALENDAR