BEGIN:VCALENDAR
VERSION:2.0
PRODID:iheid
X-WR-TIMEZONE:Europe/Zurich
BEGIN:VTIMEZONE
TZID:Europe/Zurich
X-LIC-LOCATION:Europe/Zurich
END:VTIMEZONE
BEGIN:VEVENT
UID:69e807f8227d0
DTSTART:20260428T161500Z
SEQUENCE:0
TRANSP:OPAQUE
DTEND:20260428T183000Z
LOCATION:Rue du Général-Dufour 16\, 1204 Geneva
SUMMARY:Technology & the Future of Our Societies – Sleep Dealer
CLASS:PUBLIC
DESCRIPTION:Technology &amp\; the Future of Our Societies – Sleep Dealer 
 by Tech Hub.\n\n\n\nEvent connection: 
DTSTAMP:20260422T012752Z
END:VEVENT
END:VCALENDAR