BEGIN:VCALENDAR
VERSION:2.0
PRODID:iheid
X-WR-TIMEZONE:Europe/Zurich
BEGIN:VTIMEZONE
TZID:Europe/Zurich
X-LIC-LOCATION:Europe/Zurich
END:VTIMEZONE
BEGIN:VEVENT
UID:69e859b3cc524
DTSTART:20260529T063000Z
SEQUENCE:0
TRANSP:OPAQUE
DTEND:20260529T153000Z
URL:https://forms.gle/9MDgzS2bNkbxWLZT6
LOCATION:No location specified
SUMMARY:Christian Internationalisms and Multilateralism
CLASS:PUBLIC
DESCRIPTION:Christian Internationalisms and Multilateralism by Sandrine Kot
 t\, Bernard Keo\, Centre for Digital Humanities and Multilateralism.\n\n\n
 \nEvent connection: https://forms.gle/9MDgzS2bNkbxWLZT6
DTSTAMP:20260422T071635Z
END:VEVENT
END:VCALENDAR