BEGIN:VCALENDAR
VERSION:2.0
PRODID:iheid
X-WR-TIMEZONE:Europe/Zurich
BEGIN:VTIMEZONE
TZID:Europe/Zurich
X-LIC-LOCATION:Europe/Zurich
END:VTIMEZONE
BEGIN:VEVENT
UID:69e807a0efe77
DTSTART:20260505T130000Z
SEQUENCE:0
TRANSP:OPAQUE
DTEND:20260505T143000Z
LOCATION:You can join in person in room P1-547 or online.&nbsp\;
SUMMARY:Beyond Instrumentalization: Sexual Violence\, Looting\, and the Ord
 er of State Violence
CLASS:PUBLIC
DESCRIPTION:Beyond Instrumentalization: Sexual Violence\, Looting\, and the
  Order of State Violence by Revital Madar .\n\n\n\nEvent connection: 
DTSTAMP:20260422T012624Z
END:VEVENT
END:VCALENDAR