BEGIN:VCALENDAR
VERSION:2.0
PRODID:iheid
X-WR-TIMEZONE:Europe/Zurich
BEGIN:VTIMEZONE
TZID:Europe/Zurich
X-LIC-LOCATION:Europe/Zurich
END:VTIMEZONE
BEGIN:VEVENT
UID:69e9af0b3ea29
DTSTART:20260414T163000Z
SEQUENCE:0
TRANSP:OPAQUE
DTEND:20260414T180000Z
LOCATION:Auditorium Ivan Pictet | Maison de la paix\, Geneva
SUMMARY:Does Humanitarian Work Have a Future?
CLASS:PUBLIC
DESCRIPTION:Does Humanitarian Work Have a Future? by A Conversation Across 
 Generations with Filippo Grandi\, former UN High Commissioner for Refugees
 .\n\n\n\nEvent connection: 
DTSTAMP:20260423T073259Z
END:VEVENT
END:VCALENDAR