BEGIN:VCALENDAR
VERSION:2.0
PRODID:iheid
X-WR-TIMEZONE:Europe/Zurich
BEGIN:VTIMEZONE
TZID:Europe/Zurich
X-LIC-LOCATION:Europe/Zurich
END:VTIMEZONE
BEGIN:VEVENT
UID:69ea46da579ba
DTSTART:20260513T160000Z
SEQUENCE:0
TRANSP:OPAQUE
DTEND:20260513T170000Z
URL:https://us06web.zoom.us/webinar/register/WN_AxTYx7iJRtuuLxkvQFtMkA
LOCATION:The Fab\, Petal 2\, floor 4\, Maison de la paix
SUMMARY:BOOK LAUNCH: \"Trade Restrictions\, Sustainable Development and the
  Law: International and Regional Perspectives\"
CLASS:PUBLIC
DESCRIPTION:BOOK LAUNCH: &quot\;Trade Restrictions\, Sustainable Developmen
 t and the Law: International and Regional Perspectives&quot\; by CTEI.\n\n
 \n\nEvent connection: https://us06web.zoom.us/webinar/register/WN_AxTYx7iJ
 RtuuLxkvQFtMkA
DTSTAMP:20260423T182042Z
END:VEVENT
END:VCALENDAR