BEGIN:VCALENDAR
VERSION:2.0
PRODID:iheid
X-WR-TIMEZONE:Europe/Zurich
BEGIN:VTIMEZONE
TZID:Europe/Zurich
X-LIC-LOCATION:Europe/Zurich
END:VTIMEZONE
BEGIN:VEVENT
UID:69e9b2caf1d87
DTSTART:20260420T163000Z
SEQUENCE:0
TRANSP:OPAQUE
DTEND:20260420T180000Z
LOCATION:Auditorium A2\, Geneva Graduate Institute\, Maison de la paix\, Ge
 nève
SUMMARY:UN MONDE EN MUTATION: QUELS DÉFIS POUR LA DIPLOMATIE DE LA SANTÉ?
  
CLASS:PUBLIC
DESCRIPTION:UN MONDE EN MUTATION: QUELS DÉFIS POUR LA DIPLOMATIE DE LA SAN
 TÉ?  by Global Health Centre.\n\n\n\nEvent connection: 
DTSTAMP:20260423T074858Z
END:VEVENT
END:VCALENDAR