BEGIN:VCALENDAR
VERSION:2.0
PRODID:iheid
X-WR-TIMEZONE:Europe/Zurich
BEGIN:VTIMEZONE
TZID:Europe/Zurich
X-LIC-LOCATION:Europe/Zurich
END:VTIMEZONE
BEGIN:VEVENT
UID:69ea339bdbd0f
DTSTART:20260506T161500Z
SEQUENCE:0
TRANSP:OPAQUE
DTEND:20260506T174500Z
LOCATION:A1B\, Maison de la paix\, Geneva
SUMMARY:Making and Unmaking of Life: The Politics and Psychology of Fear fr
 om the 1970s to the Present
CLASS:PUBLIC
DESCRIPTION:Making and Unmaking of Life: The Politics and Psychology of Fea
 r from the 1970s to the Present by Fondation Pierre du Bois.\n\n\n\nEvent 
 connection: 
DTSTAMP:20260423T165835Z
END:VEVENT
END:VCALENDAR