BEGIN:VCALENDAR
VERSION:2.0
PRODID:iheid
X-WR-TIMEZONE:Europe/Zurich
BEGIN:VTIMEZONE
TZID:Europe/Zurich
X-LIC-LOCATION:Europe/Zurich
END:VTIMEZONE
BEGIN:VEVENT
UID:69e8599456cc7
DTSTART:20260527T070000Z
SEQUENCE:0
TRANSP:OPAQUE
DTEND:20260528T150000Z
URL:https://numerique.cuso.ch/?id=7010&tx_displaycontroller%5BshowUid%5D=82
 83
LOCATION:B22\, Villa Barton
SUMMARY:Cartographie de grands corpus textuels : recherche scientifique\, d
 ébat médiatique et documents de politiques
CLASS:PUBLIC
DESCRIPTION:Cartographie de grands corpus textuels : recherche scientifique
 \, débat médiatique et documents de politiques by CUSO Numérique\, CDHM
 .\n\n\n\nEvent connection: https://numerique.cuso.ch/?id=7010&amp\;tx_disp
 laycontroller%5BshowUid%5D=8283
DTSTAMP:20260422T071604Z
END:VEVENT
END:VCALENDAR