BEGIN:VCALENDAR
VERSION:2.0
PRODID:iheid
X-WR-TIMEZONE:Europe/Zurich
BEGIN:VTIMEZONE
TZID:Europe/Zurich
X-LIC-LOCATION:Europe/Zurich
END:VTIMEZONE
BEGIN:VEVENT
UID:69e71242df9cc
DTSTART:20260423T104500Z
SEQUENCE:0
TRANSP:OPAQUE
DTEND:20260423T120000Z
LOCATION:Geneva Graduate Institute\, Maison de la paix\, room S11 and onlin
 e
SUMMARY:Making Orders: The Nature of Peoples’ Institutions and Internatio
 nal Law
CLASS:PUBLIC
DESCRIPTION:Making Orders: The Nature of Peoples’ Institutions and Intern
 ational Law by Dr. Tim Lindgren\, Marie Curie fellow at the European Unive
 rsity Institute and SNFS Scientific Exchange fellow at the Geneva Graduate
  Institute.\n\n\n\nEvent connection: 
DTSTAMP:20260421T075930Z
END:VEVENT
END:VCALENDAR