BEGIN:VCALENDAR
VERSION:2.0
PRODID:iheid
X-WR-TIMEZONE:Europe/Zurich
BEGIN:VTIMEZONE
TZID:Europe/Zurich
X-LIC-LOCATION:Europe/Zurich
END:VTIMEZONE
BEGIN:VEVENT
UID:69e807953bda9
DTSTART:20260430T103000Z
SEQUENCE:0
TRANSP:OPAQUE
DTEND:20260430T113000Z
URL:https://docs.google.com/forms/d/e/1FAIpQLSdbItv6y5qMKOWdq7fJ5IaHgtCfJcK
 L9ozOEZk87qOFtP7XxQ/viewform?usp=dialog
LOCATION:Maison de la paix\, S5
SUMMARY:Step Into Diplomacy: DFAE Careers
CLASS:PUBLIC
DESCRIPTION:Step Into Diplomacy: DFAE Careers by DFAE professionals.\n\n\n\
 nEvent connection: https://docs.google.com/forms/d/e/1FAIpQLSdbItv6y5qMKOW
 dq7fJ5IaHgtCfJcKL9ozOEZk87qOFtP7XxQ/viewform?usp=dialog
DTSTAMP:20260422T012613Z
END:VEVENT
END:VCALENDAR