BEGIN:VCALENDAR
VERSION:2.0
PRODID:iheid
X-WR-TIMEZONE:Europe/Zurich
BEGIN:VTIMEZONE
TZID:Europe/Zurich
X-LIC-LOCATION:Europe/Zurich
END:VTIMEZONE
BEGIN:VEVENT
UID:69e85994d372e
DTSTART:20260512T163000Z
SEQUENCE:0
TRANSP:OPAQUE
DTEND:20260512T180000Z
LOCATION:Auditorium A2\, Maison de la Paix
SUMMARY:Participatory Action Research Across Borders: Perspectives From the
  Digital Health and Rights Project
CLASS:PUBLIC
DESCRIPTION:Participatory Action Research Across Borders: Perspectives From
  the Digital Health and Rights Project by Global Governance Centre | Digit
 al Health and Rights Project | University of Warwick.\n\n\n\nEvent connect
 ion: 
DTSTAMP:20260422T071604Z
END:VEVENT
END:VCALENDAR