BEGIN:VCALENDAR
VERSION:2.0
PRODID:iheid
X-WR-TIMEZONE:Europe/Zurich
BEGIN:VTIMEZONE
TZID:Europe/Zurich
X-LIC-LOCATION:Europe/Zurich
END:VTIMEZONE
BEGIN:VEVENT
UID:69ea46dada2f0
DTSTART:20260615T070000Z
SEQUENCE:0
TRANSP:OPAQUE
DTEND:20260619T150000Z
URL:https://forms.gle/MD4EyA6HfHzwg6Jd8
LOCATION:Maison de la paix\, WTO and other International Organizations.
SUMMARY:Joint University Study Tour 2026
CLASS:PUBLIC
DESCRIPTION:Joint University Study Tour 2026 by CTEI.\n\n\n\nEvent connecti
 on: https://forms.gle/MD4EyA6HfHzwg6Jd8
DTSTAMP:20260423T182042Z
END:VEVENT
END:VCALENDAR