BEGIN:VCALENDAR
VERSION:2.0
PRODID:iheid
X-WR-TIMEZONE:Europe/Zurich
BEGIN:VTIMEZONE
TZID:Europe/Zurich
X-LIC-LOCATION:Europe/Zurich
END:VTIMEZONE
BEGIN:VEVENT
UID:69ea328d1c649
DTSTART:20260427T141500Z
SEQUENCE:0
TRANSP:OPAQUE
DTEND:20260427T160000Z
URL:https://forms.gle/uguW7RUsKaVTid8J8
LOCATION:Auditorium A2\, Geneva Graduate Institute\, Maison de la paix
SUMMARY:Clearing the Ground: Landmines\, Training Humanitarians\, and Human
 itarian Action - Ukraine and Beyond
CLASS:PUBLIC
DESCRIPTION:Clearing the Ground: Landmines\, Training Humanitarians\, and H
 umanitarian Action - Ukraine and Beyond by Organised by Human Rights\, Con
 flict &amp\; Peace Student Initiative at the Geneva Graduate Institute..\n
 \n\n\nEvent connection: https://forms.gle/uguW7RUsKaVTid8J8
DTSTAMP:20260423T165405Z
END:VEVENT
END:VCALENDAR