BEGIN:VCALENDAR
VERSION:2.0
PRODID:iheid
X-WR-TIMEZONE:Europe/Zurich
BEGIN:VTIMEZONE
TZID:Europe/Zurich
X-LIC-LOCATION:Europe/Zurich
END:VTIMEZONE
BEGIN:VEVENT
UID:69ea328c92ca2
DTSTART:20260429T141500Z
SEQUENCE:0
TRANSP:OPAQUE
DTEND:20260429T160000Z
URL:https://forms.gle/txVXJTCSykw1mcRZ6
LOCATION:Auditorium A2\, Geneva Graduate Institute\, Maison de la paix
SUMMARY:Small Island Developing States: Financing Adaptation and the Future
  of Statehood
CLASS:PUBLIC
DESCRIPTION:Small Island Developing States: Financing Adaptation and the Fu
 ture of Statehood by Barriers\, Innovation\, and Legal Pathways amidst Cli
 mate Change.\n\n\n\nEvent connection: https://forms.gle/txVXJTCSykw1mcRZ6
DTSTAMP:20260423T165404Z
END:VEVENT
END:VCALENDAR